BEGIN:VCALENDAR
VERSION:2.0
PRODID:-//WVAAP - ECPv6.15.20//NONSGML v1.0//EN
CALSCALE:GREGORIAN
METHOD:PUBLISH
X-WR-CALNAME:WVAAP
X-ORIGINAL-URL:https://wvaap.com
X-WR-CALDESC:Events for WVAAP
REFRESH-INTERVAL;VALUE=DURATION:PT1H
X-Robots-Tag:noindex
X-PUBLISHED-TTL:PT1H
BEGIN:VTIMEZONE
TZID:UTC
BEGIN:STANDARD
TZOFFSETFROM:+0000
TZOFFSETTO:+0000
TZNAME:UTC
DTSTART:20250101T000000
END:STANDARD
END:VTIMEZONE
BEGIN:VEVENT
DTSTART;VALUE=DATE:20260501
DTEND;VALUE=DATE:20260502
DTSTAMP:20260422T032620
CREATED:20241115T164224Z
LAST-MODIFIED:20260421T144153Z
UID:2384-1777593600-1777679999@wvaap.com
SUMMARY:2026 WV AAP Children’s Healthcare Summit at Stonewall
DESCRIPTION:2026 WV AAP Summit Brochure
URL:https://wvaap.com/event/2025-wv-aap-childrens-healthcare-summit-at-stonewall/
LOCATION:Stonewall Resort\, 940 Resort Drive\, Roanoke\, WV\, 26447\, United States
ATTACH;FMTTYPE=image/jpeg:https://wvaap.com/wp-content/uploads/2024/11/2026-Annual-Meeting-Brochure-pic.jpg
END:VEVENT
BEGIN:VEVENT
DTSTART;TZID=UTC:20260808T092500
DTEND;TZID=UTC:20260808T092500
DTSTAMP:20260422T032620
CREATED:20260421T142215Z
LAST-MODIFIED:20260421T144021Z
UID:2878-1786181100-1786181100@wvaap.com
SUMMARY:4th Annual Dolly Dash 5K Race for Reading
DESCRIPTION:Join WV AAP Members as we race to support our partner in early literacy\, the Dolly Parton Imagination Library of WV! \n 
URL:https://wvaap.com/event/4th-annual-dolly-dash-5k-race-for-reading/
LOCATION:Ritter Park\, 910 13th Ave\, Huntington\, WV\, 25701
ATTACH;FMTTYPE=image/png:https://wvaap.com/wp-content/uploads/2026/04/Dolly-Dash-2026.png
END:VEVENT
END:VCALENDAR